BEGIN:VCALENDAR
VERSION:2.0
PRODID:-//Clancy &amp; Associates - ECPv6.15.18//NONSGML v1.0//EN
CALSCALE:GREGORIAN
METHOD:PUBLISH
X-ORIGINAL-URL:https://clancyassociates.com
X-WR-CALDESC:Events for Clancy &amp; Associates
REFRESH-INTERVAL;VALUE=DURATION:PT1H
X-Robots-Tag:noindex
X-PUBLISHED-TTL:PT1H
BEGIN:VTIMEZONE
TZID:America/Chicago
BEGIN:DAYLIGHT
TZOFFSETFROM:-0600
TZOFFSETTO:-0500
TZNAME:CDT
DTSTART:20230312T080000
END:DAYLIGHT
BEGIN:STANDARD
TZOFFSETFROM:-0500
TZOFFSETTO:-0600
TZNAME:CST
DTSTART:20231105T070000
END:STANDARD
BEGIN:DAYLIGHT
TZOFFSETFROM:-0600
TZOFFSETTO:-0500
TZNAME:CDT
DTSTART:20240310T080000
END:DAYLIGHT
BEGIN:STANDARD
TZOFFSETFROM:-0500
TZOFFSETTO:-0600
TZNAME:CST
DTSTART:20241103T070000
END:STANDARD
BEGIN:DAYLIGHT
TZOFFSETFROM:-0600
TZOFFSETTO:-0500
TZNAME:CDT
DTSTART:20250309T080000
END:DAYLIGHT
BEGIN:STANDARD
TZOFFSETFROM:-0500
TZOFFSETTO:-0600
TZNAME:CST
DTSTART:20251102T070000
END:STANDARD
END:VTIMEZONE
BEGIN:VEVENT
DTSTART;TZID=America/Chicago:20240131T190000
DTEND;TZID=America/Chicago:20240131T200000
DTSTAMP:20260424T102649
CREATED:20240408T173658Z
LAST-MODIFIED:20240408T173659Z
UID:899-1706727600-1706731200@clancyassociates.com
SUMMARY:“Legal and Financial Planning for the Special Needs Family”
DESCRIPTION:“Legal and Financial Planning for the Special Needs Family” (Virtual PM option – public welcome) \n\n\n\nPresented by Clancy & Associates\, Niles Township District for Special Education (NTDSE) \n\n\n\nWednesday\, January 31\, 7:00PM-8:00PM \n\n\n\nWhat can you do today to protect and ensure your child’s access to governmental benefits\, programs\, and services? This seminar will guide you through the essentials of special needs planning\, government benefits\, ABLE accounts\, and financial planning for the special needs family. Jennifer Sabourin\, attorney and parent of a child with disabilities\, will be presenting. \n\n\n\nClick here to register.
URL:https://clancyassociates.com/eventscalendar/legal-and-financial-planning-for-the-special-needs-family-2/
END:VEVENT
END:VCALENDAR