BEGIN:VCALENDAR
VERSION:2.0
PRODID:-//Clancy &amp; Associates - ECPv6.15.18//NONSGML v1.0//EN
CALSCALE:GREGORIAN
METHOD:PUBLISH
X-ORIGINAL-URL:https://clancyassociates.com
X-WR-CALDESC:Events for Clancy &amp; Associates
REFRESH-INTERVAL;VALUE=DURATION:PT1H
X-Robots-Tag:noindex
X-PUBLISHED-TTL:PT1H
BEGIN:VTIMEZONE
TZID:America/Chicago
BEGIN:DAYLIGHT
TZOFFSETFROM:-0600
TZOFFSETTO:-0500
TZNAME:CDT
DTSTART:20230312T080000
END:DAYLIGHT
BEGIN:STANDARD
TZOFFSETFROM:-0500
TZOFFSETTO:-0600
TZNAME:CST
DTSTART:20231105T070000
END:STANDARD
BEGIN:DAYLIGHT
TZOFFSETFROM:-0600
TZOFFSETTO:-0500
TZNAME:CDT
DTSTART:20240310T080000
END:DAYLIGHT
BEGIN:STANDARD
TZOFFSETFROM:-0500
TZOFFSETTO:-0600
TZNAME:CST
DTSTART:20241103T070000
END:STANDARD
BEGIN:DAYLIGHT
TZOFFSETFROM:-0600
TZOFFSETTO:-0500
TZNAME:CDT
DTSTART:20250309T080000
END:DAYLIGHT
BEGIN:STANDARD
TZOFFSETFROM:-0500
TZOFFSETTO:-0600
TZNAME:CST
DTSTART:20251102T070000
END:STANDARD
END:VTIMEZONE
BEGIN:VEVENT
DTSTART;TZID=America/Chicago:20240418T180000
DTEND;TZID=America/Chicago:20240418T200000
DTSTAMP:20260424T062858
CREATED:20240408T170102Z
LAST-MODIFIED:20240408T170103Z
UID:888-1713463200-1713470400@clancyassociates.com
SUMMARY:Southland Transition Planning Committee Parent Workshop (Virtual)
DESCRIPTION:Southland Transition Planning Committee Parent Workshop \n\n\n\nThursday\, April 18\, 6:00PM (VIRTUAL) \n\n\n\nClancy & Associates presents “Legal and Financial Planning for the Special Needs Family”.  View the flyer for additional information and to register.
URL:https://clancyassociates.com/eventscalendar/southland-transition-planning-committee-parent-workshop-virtual/
CATEGORIES:Virtual
END:VEVENT
END:VCALENDAR